BEGIN:VCALENDAR
VERSION:2.0
PRODID:-//Institute for Workforce Excellence - ECPv6.15.20//NONSGML v1.0//EN
CALSCALE:GREGORIAN
METHOD:PUBLISH
X-ORIGINAL-URL:https://www.workforceindiana.org
X-WR-CALDESC:Events for Institute for Workforce Excellence
REFRESH-INTERVAL;VALUE=DURATION:PT1H
X-Robots-Tag:noindex
X-PUBLISHED-TTL:PT1H
BEGIN:VTIMEZONE
TZID:America/Indiana/Indianapolis
BEGIN:DAYLIGHT
TZOFFSETFROM:-0500
TZOFFSETTO:-0400
TZNAME:EDT
DTSTART:20240310T070000
END:DAYLIGHT
BEGIN:STANDARD
TZOFFSETFROM:-0400
TZOFFSETTO:-0500
TZNAME:EST
DTSTART:20241103T060000
END:STANDARD
BEGIN:DAYLIGHT
TZOFFSETFROM:-0500
TZOFFSETTO:-0400
TZNAME:EDT
DTSTART:20250309T070000
END:DAYLIGHT
BEGIN:STANDARD
TZOFFSETFROM:-0400
TZOFFSETTO:-0500
TZNAME:EST
DTSTART:20251102T060000
END:STANDARD
BEGIN:DAYLIGHT
TZOFFSETFROM:-0500
TZOFFSETTO:-0400
TZNAME:EDT
DTSTART:20260308T070000
END:DAYLIGHT
BEGIN:STANDARD
TZOFFSETFROM:-0400
TZOFFSETTO:-0500
TZNAME:EST
DTSTART:20261101T060000
END:STANDARD
END:VTIMEZONE
BEGIN:VEVENT
DTSTART;TZID=America/Indiana/Indianapolis:20251029T130000
DTEND;TZID=America/Indiana/Indianapolis:20251029T160000
DTSTAMP:20260420T042528
CREATED:20251021T181051Z
LAST-MODIFIED:20251021T181051Z
UID:10000072-1761742800-1761753600@www.workforceindiana.org
SUMMARY:Attract the Right Talent: Skillful Talent Series 101
DESCRIPTION:Do you struggle to find the talent your company needs to grow? Outdated hiring and recruitment methods may be keeping you from finding the skilled workforce you need to succeed.\nIn Attract the Right Talent\, an engaging and interactive free workshop developed by the Markle Foundation (formerly Skillful Indiana) and facilitated by the Institute for Workforce Excellence\, you’ll learn to: \n\nFocus your job posting on the skills candidates need\nBroaden your talent pools to all qualified applicants\nReduce bias in your hiring process\nSource and recruit the right talent you’re struggling to find\n\nFuture-proof your workforce by focusing on skills in your talent management process. By concentrating on competencies\, you can hire better candidates\, speed up your time-to-hire\, and increase employee retention and engagement. \nRegister here!
URL:https://www.workforceindiana.org/event/attract-the-right-talent-skillful-talent-series-101-10-29/
LOCATION:Virtual\, via Zoom
CATEGORIES:Skills-Based Hiring
ATTACH;FMTTYPE=image/png:https://www.workforceindiana.org/wp-content/uploads/2024/11/IWE-Site-Thumbnail-1.png
END:VEVENT
END:VCALENDAR