BEGIN:VCALENDAR
VERSION:2.0
PRODID:-//Institute for Workforce Excellence - ECPv6.15.20//NONSGML v1.0//EN
CALSCALE:GREGORIAN
METHOD:PUBLISH
X-WR-CALNAME:Institute for Workforce Excellence
X-ORIGINAL-URL:https://www.workforceindiana.org
X-WR-CALDESC:Events for Institute for Workforce Excellence
REFRESH-INTERVAL;VALUE=DURATION:PT1H
X-Robots-Tag:noindex
X-PUBLISHED-TTL:PT1H
BEGIN:VTIMEZONE
TZID:America/Indiana/Indianapolis
BEGIN:DAYLIGHT
TZOFFSETFROM:-0500
TZOFFSETTO:-0400
TZNAME:EDT
DTSTART:20250309T070000
END:DAYLIGHT
BEGIN:STANDARD
TZOFFSETFROM:-0400
TZOFFSETTO:-0500
TZNAME:EST
DTSTART:20251102T060000
END:STANDARD
BEGIN:DAYLIGHT
TZOFFSETFROM:-0500
TZOFFSETTO:-0400
TZNAME:EDT
DTSTART:20260308T070000
END:DAYLIGHT
BEGIN:STANDARD
TZOFFSETFROM:-0400
TZOFFSETTO:-0500
TZNAME:EST
DTSTART:20261101T060000
END:STANDARD
BEGIN:DAYLIGHT
TZOFFSETFROM:-0500
TZOFFSETTO:-0400
TZNAME:EDT
DTSTART:20270314T070000
END:DAYLIGHT
BEGIN:STANDARD
TZOFFSETFROM:-0400
TZOFFSETTO:-0500
TZNAME:EST
DTSTART:20271107T060000
END:STANDARD
END:VTIMEZONE
BEGIN:VEVENT
DTSTART;TZID=America/Indiana/Indianapolis:20260414T130000
DTEND;TZID=America/Indiana/Indianapolis:20260414T140000
DTSTAMP:20260420T041948
CREATED:20260327T155539Z
LAST-MODIFIED:20260327T155539Z
UID:10000097-1776171600-1776175200@www.workforceindiana.org
SUMMARY:Skills First Talent Forum Spring Virtual Meeting
DESCRIPTION:Join the Skills First Talent Forum Spring Virtual Meeting hosted by the Institute for Workforce Excellence building upon the launch last Fall 2025. The topic focus of this conversation will be: Skills-Based Job Postings and Job Descriptions (the progress\, process\, and supports). \nThe purpose of the Skills First Talent Forum is to convene employers who are interested in and/or actively implementing skills-based talent strategies within their organizations. This peer-to-peer employer group is intended to meet on a quarterly basis following the direction and needs of the employers who participate. The goals identified by initial employer participants included: \n\nDevelop and Share Best Practices\nPromote Skills-Based Hiring Practices\nFoster Collaboration and Networking\nSupport Continuous Learning and Development\n\nWe kindly ask everyone who registers and attends this virtual meeting to join with their “employer hat” on\, as all organizations are employers and can reflect on their own approach to talent attraction\, development\, and retention. \nThe meeting will not be recorded. A meeting summary will be shared with everyone who registers. \nRegister here.
URL:https://www.workforceindiana.org/event/skills-first-talent-forum-spring-virtual-meeting/
LOCATION:Virtual\, via Zoom
CATEGORIES:Skills-Based Hiring
ATTACH;FMTTYPE=image/png:https://www.workforceindiana.org/wp-content/uploads/2026/03/Skills-First-Talent-Forum_-Registration-Header-2.png
END:VEVENT
END:VCALENDAR